BEGIN:VCALENDAR
VERSION:2.0
PRODID:-//Experience Southwest - ECPv6.9.0//NONSGML v1.0//EN
CALSCALE:GREGORIAN
METHOD:PUBLISH
X-WR-CALNAME:Experience Southwest
X-ORIGINAL-URL:https://www.experiencesouthwest.com
X-WR-CALDESC:Events for Experience Southwest
REFRESH-INTERVAL;VALUE=DURATION:PT1H
X-Robots-Tag:noindex
X-PUBLISHED-TTL:PT1H
BEGIN:VTIMEZONE
TZID:America/Chicago
BEGIN:DAYLIGHT
TZOFFSETFROM:-0600
TZOFFSETTO:-0500
TZNAME:CDT
DTSTART:20200308T080000
END:DAYLIGHT
BEGIN:STANDARD
TZOFFSETFROM:-0500
TZOFFSETTO:-0600
TZNAME:CST
DTSTART:20201101T070000
END:STANDARD
BEGIN:DAYLIGHT
TZOFFSETFROM:-0600
TZOFFSETTO:-0500
TZNAME:CDT
DTSTART:20210314T080000
END:DAYLIGHT
BEGIN:STANDARD
TZOFFSETFROM:-0500
TZOFFSETTO:-0600
TZNAME:CST
DTSTART:20211107T070000
END:STANDARD
TZID:UTC
BEGIN:STANDARD
TZOFFSETFROM:+0000
TZOFFSETTO:+0000
TZNAME:UTC
DTSTART:20200101T000000
END:STANDARD
END:VTIMEZONE
BEGIN:VEVENT
DTSTART;TZID=America/Chicago:20210519T120000
DTEND;TZID=America/Chicago:20210519T130000
DTSTAMP:20260423T173055
CREATED:20210420T191954Z
LAST-MODIFIED:20210420T191954Z
UID:6586-1621425600-1621429200@www.experiencesouthwest.com
SUMMARY:Virtual Investment Seminar
DESCRIPTION:Whitney Emanuel\, Financial Planner CFP with Strategic Visionaries is part of a panel to help addres teh HOW and WHY of investing in real estate. \nThis seminar is for people who are curious about the many ways you can invest in real estate. It will cover how this could work for your investment portfolio. The cost is $10\, clients are free\, and client referrals are just $5! Stay tuned for updates and registration details. If you’d like to save a seat\, email whitney@strategic-visionaries.com
URL:https://www.experiencesouthwest.com/event/virtual-investment-seminar/
LOCATION:Virtual
CATEGORIES:Classes
ORGANIZER;CN="Strategic Visionaries":MAILTO:whitney@strategic-visionaries.com
END:VEVENT
BEGIN:VEVENT
DTSTART;TZID=America/Chicago:20210513T190000
DTEND;TZID=America/Chicago:20210513T200000
DTSTAMP:20260423T173055
CREATED:20210406T151437Z
LAST-MODIFIED:20210406T151437Z
UID:6558-1620932400-1620936000@www.experiencesouthwest.com
SUMMARY:Tune Into Your Intuition
DESCRIPTION:In this class you will explore how to use intuition as a guide\, teacher and compass with Reiki Master\, Lynn Salmon-Easter. Take away tools so you can navigate your life and decisions with more grace and ease. Tuning into your intuition allows you to live from a place that is in alignment with your most true and authentic self. Find out more…
URL:https://www.experiencesouthwest.com/event/tune-into-your-intuition/
LOCATION:Wellness Minneapolis – Virtual
CATEGORIES:Classes,Health & Wellness
END:VEVENT
BEGIN:VEVENT
DTSTART;TZID=America/Chicago:20210420T180000
DTEND;TZID=America/Chicago:20210420T193000
DTSTAMP:20260423T173055
CREATED:20210406T151242Z
LAST-MODIFIED:20210406T151242Z
UID:6556-1618941600-1618947000@www.experiencesouthwest.com
SUMMARY:Holistic Hashimoto's Group
DESCRIPTION:Tuesdays; ​April 20th\, May 4th and 18th\, June 1st\, 15th and 29th   6-7:30 PM $350\nThis group leads you through naturopathic treatments for Hashimoto’s. This group is a good fit whether you are new to naturopathic medicine or if you are already working with a provider. Each 90 minute class is packed with information. Working with Dr. Barrett is a treat! Find out more…
URL:https://www.experiencesouthwest.com/event/holistic-hashimotos-group/
LOCATION:Wellness Minneapolis – Virtual
CATEGORIES:Classes,Health & Wellness
END:VEVENT
BEGIN:VEVENT
DTSTART;TZID=America/Chicago:20210415T183000
DTEND;TZID=America/Chicago:20210415T203000
DTSTAMP:20260423T173055
CREATED:20210406T151021Z
LAST-MODIFIED:20210406T151021Z
UID:6554-1618511400-1618518600@www.experiencesouthwest.com
SUMMARY:Support Series for Empaths and Highly Sensitive People
DESCRIPTION:Thursdays; April 15th\, May 6th\, June 3rd\, July 1st and August 5th      6:30-8:30PM   $275\nThis series is created from a heartfelt space and with love for those of us that identify with being highly sensitive and/or an empath. Your time with Lynn Salmon-Easter during this series is intended to empower\, enlighten and affirm. When we gather together as like-minded souls—we discover we are not alone (in our struggles) and we become stronger and a better version of ourselves by truly being seen\, witnessed and heard by those surrounding us.  Find out more…
URL:https://www.experiencesouthwest.com/event/support-series-for-empaths-and-highly-sensitive-people/
LOCATION:Wellness Minneapolis – Virtual
CATEGORIES:Classes,Health & Wellness
END:VEVENT
BEGIN:VEVENT
DTSTART;TZID=America/Chicago:20210413T190000
DTEND;TZID=America/Chicago:20210413T200000
DTSTAMP:20260423T173055
CREATED:20210406T150659Z
LAST-MODIFIED:20210406T150659Z
UID:6550-1618340400-1618344000@www.experiencesouthwest.com
SUMMARY:Functional Nutrition for Anxiety and Attention
DESCRIPTION:What – and how – you eat will impact much more than just your physical body. The food you choose and your mood are more connected than you may think! Anxiety\, depression\, memory\, stress\, and attention are all influenced by what you eat for breakfast\, lunch\, dinner (and anything in between). Understanding the interactions between what we eat\, how we feel and what we think or feel empowers us to care for ourselves body\, mind and spirit. Jesse Haas\, functional nutritionist and co-founder of Wellness Minneapolis\, will share some doable strategies for addressing anxiety and attention challenges with food and nutrition.  Find out more and register here…
URL:https://www.experiencesouthwest.com/event/functional-nutrition-for-anxiety-and-attention/
LOCATION:Wellness Minneapolis – Virtual
CATEGORIES:Classes,Health & Wellness
END:VEVENT
BEGIN:VEVENT
DTSTART;VALUE=DATE:20210401
DTEND;VALUE=DATE:20210501
DTSTAMP:20260423T173055
CREATED:20210406T152600Z
LAST-MODIFIED:20210406T152600Z
UID:6560-1617235200-1619827199@www.experiencesouthwest.com
SUMMARY:Anti-Social Scavenger Hunt 2021: 30 Days of Biking
DESCRIPTION:This year\, Farmstead Bike Shop is running TWO anti-Social Scavenger Hunts in the month of April. One in Northfield and one in South Minneapolis. You can participate in either or both. \nEach day a new spot will be posted on our Instagram by 11AM. One on the MPLS shop account @farmsteadbikeshop and one on Northfield shop account @farmsteadbikeshopnfld Go to the spot\, take a pic and post it on your Instagram feed and tag us in the pic. Also use the hashtag #ASSH2021 in the caption. You have to put these in your feed (instead of your story) to have them count for prizes. You can story them too but we just can’t keep up with that very easily. \nVisit 10 sites\, post them and tag us to earn an “i bike” patch. Similar to last year’s patch but different. \nYou can visit any site on any day to earn prizes but we will have a special prize for anyone who participates every day\, in order! \nWe’ll announce more prizes throughout the month. \nBe safe. Have fun. \n@farmsteadbikeshop\n@farmsteadbikeshopnfld\n@30daysofbiking\n#30dob\n#30dob2021\n#30daysofbiking\n#assh2021\n#ibikenfld\n#ibikesouthside\n#ibikempls\n#ibikechallenge\n#northfieldmn
URL:https://www.experiencesouthwest.com/event/anti-social-scavenger-hunt-2021-30-days-of-biking/
LOCATION:Virtual
CATEGORIES:Biking,Health & Wellness
END:VEVENT
BEGIN:VEVENT
DTSTART;TZID=America/Chicago:20210222T190000
DTEND;TZID=America/Chicago:20210222T203000
DTSTAMP:20260423T173055
CREATED:20210205T212147Z
LAST-MODIFIED:20210205T212147Z
UID:6491-1614020400-1614025800@www.experiencesouthwest.com
SUMMARY:Be Well Courageous Conversation Series: Mama's Knight - A Cancer Story of Love
DESCRIPTION:Join us for a book discussion led by author Aurora Whittet Best!\n\n\n\n\n\nAbout this Event\n\n\nOnce upon a time… It’s how all heroes begin their story\, and you’re a hero\, too! Your mama has cancer\, and it’s a scary journey\, but you can help your mama just by being you—special\, wonderful\, YOU. Your mama loves you just the way you are. You are your mama’s knight. \n  \nMama’s Knight: A Cancer Story of Love is an emotional toolbox that can help kids and parents communicate about what it means for Mama to have cancer. The book is filled with tools and activities designed to make coping with illness easier on both parent and child\, and can be personalized for each child. \n  \nBuy Mama’s Knight here – use code WellnessMama2021 for a special Be Well discount! \n  \nEndorsements \n“A cancer diagnosis affects the entire family\, and discussing it with young children can be difficult in so many ways. Mama’s Knight is a delightful\, interactive story that will help parents approach this difficult journey in a way that protects their child’s emotional health and strengthens their bond along the way.” \n— David Quale\, MD\, pediatrician \n  \n“As a counselor\, I so appreciate the communication tools Mama’s Knight provides families. To be able to communicate with one another about the complicated emotions that go along with cancer will be a blessing to so many. I also loved the superhero helper cards\, as they will build an amazing and needed spirit of support within the family.” \n— Michelle Craveiro\, MA\, LMFT\, family therapist \n  \n“I have never seen anything like this in my many years of caring for women. … This book provides an amazing\, and much-needed\, tool for families with young children who are facing the challenges of cancer and treatment together. I cannot wait to share this with my patients.” \n— Amy McNally\, MD\, gynecologic oncology \n  \nAbout the Author \nAurora Whittet Best started out as a wild red-haired girl in Minnesota dreaming up stories for her friends to read. Today\, she has completed “Bloodmark”\, “Bloodrealms”\, and “Bloodmoon” of the Bloodmark Saga trilogy and started her journey into children’s books with “Mama’s Knight” in honor of her own mother who lost her battle with cancer. Aurora is a national award-winning graphic designer in her day job.
URL:https://www.experiencesouthwest.com/event/be-well-courageous-conversation-series-mamas-knight-a-cancer-story-of-love/
LOCATION:MN
CATEGORIES:Classes,Health & Wellness
ORGANIZER;CN="Hope Psychology":MAILTO:j.rafferty@hopepsychology.com
END:VEVENT
BEGIN:VEVENT
DTSTART;VALUE=DATE:20210201
DTEND;VALUE=DATE:20210220
DTSTAMP:20260423T173055
CREATED:20210129T170709Z
LAST-MODIFIED:20210129T170709Z
UID:6462-1612137600-1613779199@www.experiencesouthwest.com
SUMMARY:Doctors with a Heart: Helping the Homeless and Hungry
DESCRIPTION:The team at Nokomis Chiropractic is working to support Sharing & Caring Hands of Minneapolis this month to help those in our community who are hungry or homeless. Stop in to their office in the Boulevard Building to help raise funds for this great local charity!
URL:https://www.experiencesouthwest.com/event/doctors-with-a-heart-helping-the-homeless-and-hungry/
LOCATION:Nokomis Chiropractic\, 5313 Lyndale Ave S\, Minneapolis\, MN\, 55419\, United States
CATEGORIES:Charity
END:VEVENT
BEGIN:VEVENT
DTSTART;VALUE=DATE:20201202
DTEND;VALUE=DATE:20201219
DTSTAMP:20260423T173055
CREATED:20201211T162118Z
LAST-MODIFIED:20201211T162118Z
UID:6342-1606867200-1608335999@www.experiencesouthwest.com
SUMMARY:29th Annual Toy & Gift Drive
DESCRIPTION:Happy Holidays! \nContinuing with their tradition of regularly giving back to the community\, Nokomis Chiropractic and Wellness is holding their 29th annual toy and gift drive. Please help us support the children in our community by dropping off a new\, unwrapped toy\, cash or checks (made out to Sharing & Caring Hands of Minnesota) by December 18th at noon. \nSharing and Caring Hands was established to be a bridge from the caring\, concerned community to the people in need of their help.\n\nThey receive no government or United Way funding and rely solely on donations to do their work.\n\nEvery year\, the donations of goods\, services\, time\, and money by thousands of people allow Sharing and Caring Hands to make a difference in the lives of individuals\, families\, and children in need.
URL:https://www.experiencesouthwest.com/event/29th-annual-toy-gift-drive/
LOCATION:Nokomis Chiropractic\, 5313 Lyndale Ave S\, Minneapolis\, MN\, 55419\, United States
CATEGORIES:Charity
END:VEVENT
BEGIN:VEVENT
DTSTART;TZID=America/Chicago:20201124T190000
DTEND;TZID=America/Chicago:20201124T203000
DTSTAMP:20260423T173055
CREATED:20201123T182541Z
LAST-MODIFIED:20201123T182541Z
UID:6304-1606244400-1606249800@www.experiencesouthwest.com
SUMMARY:Bruichladdic/Westland Virtual Whiskey Masterclass
DESCRIPTION:Join us for a FREE interactive virtual masterclass on Tuesday November 24th at 7 pm for 90 minutes. This is the same class for those who have already attended the event in October. You will learn about one of Islay’s unique distilleries Bruichladdich and also one of America’s innovative distilleries\, Westland. You’ll dive into their respective single malt whiskies with Brand Development Manager Andrew Moldenhauer. \nLearn about Bruichladdich > \nLearn about Westland > \nHow To Attend\nIf you’d like to join the FREE virtual masterclass\, then select the “free” ticket option in order to secure your seat. Your Zoom link will be emailed to you the morning of the event. \nOptional Tasting:\nInterested in participating in the interactive tasting at the end of the masterclass? Stop by South Lyndale Liquors to purchase a Wee Laddie Tasting Collection for $59.99 + tax. Limited quantities available for in-store purchase only. \nRSVP now to receive your link to attend.
URL:https://www.experiencesouthwest.com/event/bruichladdic-westland-virtual-whiskey-masterclass/
LOCATION:MN
CATEGORIES:Classes,Drinks
ORGANIZER;CN="South Lyndale Liquors":MAILTO:general@southlyndale.com
END:VEVENT
BEGIN:VEVENT
DTSTART;VALUE=DATE:20201109
DTEND;VALUE=DATE:20201201
DTSTAMP:20260423T173055
CREATED:20201106T224353Z
LAST-MODIFIED:20201106T224353Z
UID:6291-1604880000-1606780799@www.experiencesouthwest.com
SUMMARY:Gift of Health Food Drive
DESCRIPTION:Each “Gift of Health” certificate redeemed is a $20 donation to the Food Drive. Nokomis Chiropractic will match the $20 for the first 20 referrals.\n\nYou can also help by bringing in your donation of cash\, check or non perishable food and supplies between November 9th through the 30th.
URL:https://www.experiencesouthwest.com/event/gift-of-health-food-drive/
LOCATION:Nokomis Chiropractic\, 5313 Lyndale Ave S\, Minneapolis\, MN\, 55419\, United States
CATEGORIES:Charity,Health & Wellness
ATTACH;FMTTYPE=image/jpeg:https://www.experiencesouthwest.com/wp-content/uploads/2020/11/FoodShelf.jpg
END:VEVENT
BEGIN:VEVENT
DTSTART;TZID=America/Chicago:20201015T120000
DTEND;TZID=America/Chicago:20201015T130000
DTSTAMP:20260423T173055
CREATED:20200922T211656Z
LAST-MODIFIED:20200922T230348Z
UID:6257-1602763200-1602766800@www.experiencesouthwest.com
SUMMARY:Live From Bachman's: Getting Perennials Winter-Ready
DESCRIPTION:After a season of observing pollinators hard at work in your garden\, it’s important to think about providing them with a useful landscape come winter. Tune in to Bachman’s Facebook page for a live presentation to learn what you can do to help provide a necessary habitat for bees and other insects looking to weather the winter months in Minnesota.\n\nDuring this Facebook Live\, you will learn about:\nWhich areas of your landscape offer the safest home for insects in winter\nHow the cold weather will trigger certain native seeds to develop\nHow bumblebee queens survive the cold months and restart their colony in spring\nThe benefits of leaf litter for both your lawn and local arthropod communities\n\nVisit Bachman’s Facebook page on October 15 at noon for this event.\n\nhttps://www.facebook.com/BachmansMN/
URL:https://www.experiencesouthwest.com/event/live-from-bachmans-getting-perennials-winter-ready/
LOCATION:Facebook Live\, Minneapolis\, 55419
CATEGORIES:Classes,Home & Garden
ATTACH;FMTTYPE=image/jpeg:https://www.experiencesouthwest.com/wp-content/uploads/2020/09/118285403_10158677984103166_6574985633623368911_n.jpg
ORGANIZER;CN="Bachman's":MAILTO:customerservice@bachmans.com
END:VEVENT
BEGIN:VEVENT
DTSTART;TZID=America/Chicago:20200929T090000
DTEND;TZID=America/Chicago:20201003T120000
DTSTAMP:20260423T173055
CREATED:20200922T205618Z
LAST-MODIFIED:20200922T230155Z
UID:6250-1601370000-1601726400@www.experiencesouthwest.com
SUMMARY:Level III: Mentoring Practitioner in the HART Method
DESCRIPTION:4 day advanced training for graduates of the Practitioner Level.
URL:https://www.experiencesouthwest.com/event/level-iii-mentoring-practitioner-in-the-hart-method/
LOCATION:Adagio Holistic Therapies\, LLC\, 710 W. 40th St.\, Minneapolis\, MN\, 55409\, United States
CATEGORIES:Health & Wellness
ATTACH;FMTTYPE=image/jpeg:https://www.experiencesouthwest.com/wp-content/uploads/2020/09/78406413_10156803422301989_9165486142676533248_o.jpg
ORGANIZER;CN="Adagio Holistic Therapies%2C LLC":MAILTO:info@adagioholistic.com
END:VEVENT
BEGIN:VEVENT
DTSTART;TZID=America/Chicago:20200926T120000
DTEND;TZID=America/Chicago:20200926T150000
DTSTAMP:20260423T173055
CREATED:20200925T143656Z
LAST-MODIFIED:20200925T152302Z
UID:6272-1601121600-1601132400@www.experiencesouthwest.com
SUMMARY:Beer Release @ South Lyndale Liquor
DESCRIPTION:Join us tomorrow at 𝗦𝗟𝗟 with @pryesbrewing for their Winning Cobbler Beer Release along with @littlebluefoodtruck.\n 𝗡𝗼𝗼𝗻 – 𝟯 𝗣𝗠
URL:https://www.experiencesouthwest.com/event/beer-release-south-lyndale-liquor/
LOCATION:South Lyndale Liquors\, 5300 Lyndale Ave S\, Minneapolis\, MN\, 55419\, United States
CATEGORIES:Drinks
ATTACH;FMTTYPE=image/png:https://www.experiencesouthwest.com/wp-content/uploads/2020/07/SouthLyndaleLiquors.png
ORGANIZER;CN="South Lyndale Liquors":MAILTO:general@southlyndale.com
END:VEVENT
BEGIN:VEVENT
DTSTART;TZID=America/Chicago:20200922T160000
DTEND;TZID=America/Chicago:20200922T200000
DTSTAMP:20260423T173055
CREATED:20200922T204905Z
LAST-MODIFIED:20200922T225756Z
UID:6247-1600790400-1600804800@www.experiencesouthwest.com
SUMMARY:Keep the Glass - Plum Blackberry Refresco
DESCRIPTION:Upgrade your glassware game every Tuesday with our ‘Keep The Glass” night. Take home a pint glass featuring original artwork from various Wild Mind cans by being one of the first 40 individuals to order a pint. It’s that easy. \nWant to increase your chances? Book a reservation at www.exploretock.com/wildmindales
URL:https://www.experiencesouthwest.com/event/keep-the-glass-plum-blackberry-refresco/
LOCATION:Wild Mind Artisan Ales\, 6031 Pillsbury Ave S\, Minneapolis\, MN\, 55419\, US
ATTACH;FMTTYPE=image/jpeg:https://www.experiencesouthwest.com/wp-content/uploads/2020/09/116431755_2624989444389152_3848184441912682968_o.jpg
ORGANIZER;CN="Wild Mind Artisan Ales":MAILTO:hello@wildmindales.com
END:VEVENT
BEGIN:VEVENT
DTSTART;TZID=America/Chicago:20200921T180000
DTEND;TZID=America/Chicago:20200921T233000
DTSTAMP:20260423T173055
CREATED:20200922T210246Z
LAST-MODIFIED:20200922T210246Z
UID:6254-1600711200-1600731000@www.experiencesouthwest.com
SUMMARY:Intergalactic Surly Day
DESCRIPTION:SAVE THE DATE: Saturday\, September 21st Intergalactic Surly Day and we’ll be hosting an Urban Alleyway Crawl Bike Ride from South Mpls up to Northeast to meet up with the Surly Party at Bauhaus Brewing. We’ll be riding and exploring all Mpls’s best alleyways and urban singletrack\, complete with beverages stops\, and a big ole’ fashioned Surly Party at Bauhaus. MORE DETAILS TO COME.\n\n***The first riders to attend the event will receive a very special-never seen before-Surly product!****
URL:https://www.experiencesouthwest.com/event/intergalactic-surly-day/
LOCATION:MN
CATEGORIES:Biking,Drinks
ORGANIZER;CN="Tangletown Bike Shop":MAILTO:mike@tangletownbikeshop.com
END:VEVENT
BEGIN:VEVENT
DTSTART;TZID=UTC:20200815T120000
DTEND;TZID=UTC:20200815T200000
DTSTAMP:20260423T173055
CREATED:20200619T003547Z
LAST-MODIFIED:20200619T003547Z
UID:5945-1597492800-1597521600@www.experiencesouthwest.com
SUMMARY:Food Truck Kabomelette
DESCRIPTION:Kabob + Omelette= Kabomelette\nIt’s pretty clear from their awesome truck name\, that Kabomelette’s omlette’s are the bomb! Enjoy a delicious breakfast all day at this yummy food truck! Too late in the day for eggs? Try one of their sandwiches\, or kabobs!
URL:https://www.experiencesouthwest.com/event/food-truck-kabomelette/
LOCATION:Wild Mind Artisan Ales\, 6031 Pillsbury Ave S\, Minneapolis\, MN\, 55419\, US
ATTACH;FMTTYPE=image/jpeg:https://www.experiencesouthwest.com/wp-content/uploads/2020/06/5945_image_88986300_2514012108820220_631026396243689472_n.jpg
END:VEVENT
BEGIN:VEVENT
DTSTART;TZID=UTC:20200726T120000
DTEND;TZID=UTC:20200726T200000
DTSTAMP:20260423T173055
CREATED:20200619T003548Z
LAST-MODIFIED:20200619T003548Z
UID:5947-1595764800-1595793600@www.experiencesouthwest.com
SUMMARY:Food Truck Kabomelette
DESCRIPTION:Kabob + Omelette= Kabomelette\nIt’s pretty clear from their awesome truck name\, that Kabomelette’s omlette’s are the bomb! Enjoy a delicious breakfast all day at this yummy food truck! Too late in the day for eggs? Try one of their sandwiches\, or kabobs!
URL:https://www.experiencesouthwest.com/event/food-truck-kabomelette-2/
LOCATION:Wild Mind Artisan Ales\, 6031 Pillsbury Ave S\, Minneapolis\, MN\, 55419\, US
ATTACH;FMTTYPE=image/jpeg:https://www.experiencesouthwest.com/wp-content/uploads/2020/06/5945_image_88986300_2514012108820220_631026396243689472_n.jpg
END:VEVENT
BEGIN:VEVENT
DTSTART;TZID=UTC:20200710T160000
DTEND;TZID=UTC:20200710T200000
DTSTAMP:20260423T173055
CREATED:20200619T003548Z
LAST-MODIFIED:20200619T003548Z
UID:5948-1594396800-1594411200@www.experiencesouthwest.com
SUMMARY:Food Truck Kabomelette
DESCRIPTION:Kabob + Omelette= Kabomelette\nIt’s pretty clear from their awesome truck name\, that Kabomelette’s omlette’s are the bomb! Enjoy a delicious breakfast all day at this yummy food truck! Too late in the day for eggs? Try one of their sandwiches\, or kabobs!
URL:https://www.experiencesouthwest.com/event/food-truck-kabomelette-3/
LOCATION:Wild Mind Artisan Ales\, 6031 Pillsbury Ave S\, Minneapolis\, MN\, 55419\, US
ATTACH;FMTTYPE=image/jpeg:https://www.experiencesouthwest.com/wp-content/uploads/2020/06/5945_image_88986300_2514012108820220_631026396243689472_n.jpg
END:VEVENT
END:VCALENDAR