BEGIN:VCALENDAR
VERSION:2.0
PRODID:-//Experience Southwest - ECPv6.9.0//NONSGML v1.0//EN
CALSCALE:GREGORIAN
METHOD:PUBLISH
X-WR-CALNAME:Experience Southwest
X-ORIGINAL-URL:https://www.experiencesouthwest.com
X-WR-CALDESC:Events for Experience Southwest
REFRESH-INTERVAL;VALUE=DURATION:PT1H
X-Robots-Tag:noindex
X-PUBLISHED-TTL:PT1H
BEGIN:VTIMEZONE
TZID:America/Chicago
BEGIN:DAYLIGHT
TZOFFSETFROM:-0600
TZOFFSETTO:-0500
TZNAME:CDT
DTSTART:20200308T080000
END:DAYLIGHT
BEGIN:STANDARD
TZOFFSETFROM:-0500
TZOFFSETTO:-0600
TZNAME:CST
DTSTART:20201101T070000
END:STANDARD
END:VTIMEZONE
BEGIN:VEVENT
DTSTART;TZID=America/Chicago:20201124T190000
DTEND;TZID=America/Chicago:20201124T203000
DTSTAMP:20260423T171552
CREATED:20201123T182541Z
LAST-MODIFIED:20201123T182541Z
UID:6304-1606244400-1606249800@www.experiencesouthwest.com
SUMMARY:Bruichladdic/Westland Virtual Whiskey Masterclass
DESCRIPTION:Join us for a FREE interactive virtual masterclass on Tuesday November 24th at 7 pm for 90 minutes. This is the same class for those who have already attended the event in October. You will learn about one of Islay’s unique distilleries Bruichladdich and also one of America’s innovative distilleries\, Westland. You’ll dive into their respective single malt whiskies with Brand Development Manager Andrew Moldenhauer. \nLearn about Bruichladdich > \nLearn about Westland > \nHow To Attend\nIf you’d like to join the FREE virtual masterclass\, then select the “free” ticket option in order to secure your seat. Your Zoom link will be emailed to you the morning of the event. \nOptional Tasting:\nInterested in participating in the interactive tasting at the end of the masterclass? Stop by South Lyndale Liquors to purchase a Wee Laddie Tasting Collection for $59.99 + tax. Limited quantities available for in-store purchase only. \nRSVP now to receive your link to attend.
URL:https://www.experiencesouthwest.com/event/bruichladdic-westland-virtual-whiskey-masterclass/
CATEGORIES:Classes,Drinks
ORGANIZER;CN="South Lyndale Liquors":MAILTO:general@southlyndale.com
END:VEVENT
BEGIN:VEVENT
DTSTART;TZID=America/Chicago:20200926T120000
DTEND;TZID=America/Chicago:20200926T150000
DTSTAMP:20260423T171552
CREATED:20200925T143656Z
LAST-MODIFIED:20200925T152302Z
UID:6272-1601121600-1601132400@www.experiencesouthwest.com
SUMMARY:Beer Release @ South Lyndale Liquor
DESCRIPTION:Join us tomorrow at 𝗦𝗟𝗟 with @pryesbrewing for their Winning Cobbler Beer Release along with @littlebluefoodtruck.\n 𝗡𝗼𝗼𝗻 – 𝟯 𝗣𝗠
URL:https://www.experiencesouthwest.com/event/beer-release-south-lyndale-liquor/
LOCATION:South Lyndale Liquors\, 5300 Lyndale Ave S\, Minneapolis\, MN\, 55419\, United States
CATEGORIES:Drinks
ATTACH;FMTTYPE=image/png:https://www.experiencesouthwest.com/wp-content/uploads/2020/07/SouthLyndaleLiquors.png
ORGANIZER;CN="South Lyndale Liquors":MAILTO:general@southlyndale.com
END:VEVENT
BEGIN:VEVENT
DTSTART;TZID=America/Chicago:20200921T180000
DTEND;TZID=America/Chicago:20200921T233000
DTSTAMP:20260423T171552
CREATED:20200922T210246Z
LAST-MODIFIED:20200922T210246Z
UID:6254-1600711200-1600731000@www.experiencesouthwest.com
SUMMARY:Intergalactic Surly Day
DESCRIPTION:SAVE THE DATE: Saturday\, September 21st Intergalactic Surly Day and we’ll be hosting an Urban Alleyway Crawl Bike Ride from South Mpls up to Northeast to meet up with the Surly Party at Bauhaus Brewing. We’ll be riding and exploring all Mpls’s best alleyways and urban singletrack\, complete with beverages stops\, and a big ole’ fashioned Surly Party at Bauhaus. MORE DETAILS TO COME.\n\n***The first riders to attend the event will receive a very special-never seen before-Surly product!****
URL:https://www.experiencesouthwest.com/event/intergalactic-surly-day/
CATEGORIES:Biking,Drinks
ORGANIZER;CN="Tangletown Bike Shop":MAILTO:mike@tangletownbikeshop.com
END:VEVENT
END:VCALENDAR